BEGIN:VCALENDAR
VERSION:2.0
PRODID:-//ipaitalia.it - ECPv6.15.20//NONSGML v1.0//EN
CALSCALE:GREGORIAN
METHOD:PUBLISH
X-ORIGINAL-URL:https://ipaitalia.it
X-WR-CALDESC:Eventi per ipaitalia.it
REFRESH-INTERVAL;VALUE=DURATION:PT1H
X-Robots-Tag:noindex
X-PUBLISHED-TTL:PT1H
BEGIN:VTIMEZONE
TZID:UTC
BEGIN:STANDARD
TZOFFSETFROM:+0000
TZOFFSETTO:+0000
TZNAME:UTC
DTSTART:20250101T000000
END:STANDARD
END:VTIMEZONE
BEGIN:VEVENT
DTSTART;TZID=UTC:20260331T080000
DTEND;TZID=UTC:20260331T170000
DTSTAMP:20260422T141634
CREATED:20260331T081353Z
LAST-MODIFIED:20260331T115012Z
UID:17468-1774944000-1774976400@ipaitalia.it
SUMMARY:"PEZONE CONFERMATO PRESIDENTE DELL'IPA ITALIA"
DESCRIPTION:Cari associati e amici dell’I.P.A. Italia\, \nil nuovo anno 2026 si apre all’insegna della continuità e dell’innovazione per la nostra Sezione. \nSi è svolto ad Abano Terme il 20° Congresso Nazionale Elettivo alla presenza di 75 Delegati provenienti dalle 21 Delegazioni della penisola e con la partecipazione di oltre 170 persone. \nParticolarmente gradita è stata la presenza e la sempre costante vicinanza del Presidente Internazionale Martin Hoffmann e dei partecipanti provenienti da Albania\, Austria\, Grecia\, Svizzera\, San Marino\, Montenegro\, Ungheria\, Moldavia\, UK\, Germania e USA. La loro presenza rafforza sempre più il senso di appartenenza e amicizia che caratterizza la nostra Associazione. \nLa conferma di Nicolangelo Pezone come Presidente Nazionale è stato il segno di una continuità viva\, unita e pronta a crescere ulteriormente insieme. \nIl nuovo Esecutivo è composto dal Vicepresidente Vicario Alfredo Iasuozzi\, dal Vicepresidente Antonio Molinaro\, dalla nuova Segretaria Generale Francesca Perchiazzi che sarà affiancata dal Vicesegretario Vicario Francesco Amodeo e dai neoeletti Vicesegretari Antonella Setaro ed Eugenio Cagnazzo. Cambio di testimone anche per la Tesoreria Nazionale\, con il nuovo Tesoriere Salvatore Del Giglio e il neoeletto Vicetesoriere Filippo Paci. Completano il gruppo i due incaricati supplenti Francesco Puglielli e Antonio Manconi.             \nUn Esecutivo Centrale multigenerazionale e rappresentativo delle forze di Polizia\, pronto ad affrontare le sfide future e a lavorare per promuovere progetti collettivi e iniziative che favoriscano la crescita dell’I.P.A. Italia\, mettendo al centro i valori che ci accomunano e ci contraddistinguono nel panorama associativo nazionale e mondiale. \nGrazie alla vostra partecipazione e al vostro impegno\, l’Associazione continua ad essere una famiglia che valorizza l’amicizia\, la solidarietà e la collaborazione tra colleghi di tutte le forze di Polizia. \nPer rafforzare ulteriormente questo legame\, è nostra intenzione realizzare quanto prima una newsletter a voi dedicata: per aggiornarvi sulle novità\, condividere i risultati raggiunti e coinvolgervi nelle sfide e nei progetti che ci attendono. Un contatto diretto\, perché insieme possiamo continuare a costruire un’associazione più forte e inclusiva. \nServo per Amikeco \nIl Presidente Nazionale  \nNicolangelo Pezone. \n 
URL:https://ipaitalia.it/event/pezone-confermato-presidente-dellipa-italia/
CATEGORIES:Eventi Internazionali,Eventi Nazionali
ATTACH;FMTTYPE=image/jpeg:https://ipaitalia.it/wp-content/uploads/2026/03/PHOTO-2026-03-28-11-29-06.jpg
END:VEVENT
END:VCALENDAR