BEGIN:VCALENDAR
VERSION:2.0
PRODID:-//ipaitalia.it - ECPv6.15.20//NONSGML v1.0//EN
CALSCALE:GREGORIAN
METHOD:PUBLISH
X-ORIGINAL-URL:https://ipaitalia.it
X-WR-CALDESC:Eventi per ipaitalia.it
REFRESH-INTERVAL;VALUE=DURATION:PT1H
X-Robots-Tag:noindex
X-PUBLISHED-TTL:PT1H
BEGIN:VTIMEZONE
TZID:UTC
BEGIN:STANDARD
TZOFFSETFROM:+0000
TZOFFSETTO:+0000
TZNAME:UTC
DTSTART:20250101T000000
END:STANDARD
END:VTIMEZONE
BEGIN:VEVENT
DTSTART;TZID=UTC:20260415T080000
DTEND;TZID=UTC:20260415T170000
DTSTAMP:20260416T142614
CREATED:20260415T122706Z
LAST-MODIFIED:20260415T122806Z
UID:17703-1776240000-1776272400@ipaitalia.it
SUMMARY:Seminario Internazionale bilingue: Italiano/Tedesco nr.26|18. “Smart Patrolling – Tecnologie digitali per il quotidiano controllo del territorio e la gestione operativa dei grandi eventi.” I.B.Z. Castello di Gimborn – Colonia (GERMANIA) 22 - 26 Giugno 2026.
DESCRIPTION:  \n2026-3-24_26 18 Smart Patrolling en-GB_DRAFT_REV_1\n  \nI partecipanti avranno modo di conoscere gli attuali sviluppi tecnologici\, i\nconcetti operativi collaudati e le prospettive future del lavoro di polizia digitale.\nI Relatori e gli Esperti designati provengono dalle diverse Forze di Polizia e dal\nsettore civile ed accademico e saranno ben lieti di poter condividere le loro\ncompetenze ed esperienze professionali.\nUn aspetto fondamentale\, come d’altronde è consuetudine\, è l’ampio spazio che\nè stato previsto per il confronto\, la discussione\, la riflessione nonché lo scambio di\nesperienze internazionali. \n  \nSi desidera evidenziare che la domanda di iscrizione dovrà essere altresì\ntrasmessa via e-mail anche alla Segreteria Nazionale dell’I.P.A. (segreteria@ipaitalia.it) ed al responsabile italiano del Seminario\, il Vice Presidente nazionale\nvicepresidente@ipa-italia.it)\, ciò al fine di poter meglio organizzare tutti gli aspetti\nlogistici e di coordinamento.\nUlteriori informazioni con le condizioni per la partecipazione al Seminario\npossono ritrovarsi alla pagina: https://ibz-gimborn.com/teilnahmebedingungen/.
URL:https://ipaitalia.it/event/seminario-internazionale-bilingue-italiano-tedesco-nr-2618-smart-patrolling-tecnologie-digitali-per-il-quotidiano-controllo-del-territorio-e-la-gestione-operativa-dei-grandi-even/
CATEGORIES:Eventi Internazionali,Eventi Nazionali
ATTACH;FMTTYPE=image/jpeg:https://ipaitalia.it/wp-content/uploads/2026/04/gimborn.jpg
END:VEVENT
END:VCALENDAR