BEGIN:VCALENDAR
VERSION:2.0
PRODID:-//ipaitalia.it - ECPv6.15.20//NONSGML v1.0//EN
CALSCALE:GREGORIAN
METHOD:PUBLISH
X-WR-CALNAME:ipaitalia.it
X-ORIGINAL-URL:https://ipaitalia.it
X-WR-CALDESC:Eventi per ipaitalia.it
REFRESH-INTERVAL;VALUE=DURATION:PT1H
X-Robots-Tag:noindex
X-PUBLISHED-TTL:PT1H
BEGIN:VTIMEZONE
TZID:UTC
BEGIN:STANDARD
TZOFFSETFROM:+0000
TZOFFSETTO:+0000
TZNAME:UTC
DTSTART:20250101T000000
END:STANDARD
END:VTIMEZONE
BEGIN:VEVENT
DTSTART;TZID=UTC:20260416T083000
DTEND;TZID=UTC:20260731T150000
DTSTAMP:20260416T142749
CREATED:20251201T090936Z
LAST-MODIFIED:20260416T061849Z
UID:14258-1776328200-1785510000@ipaitalia.it
SUMMARY:Il Tuo 5x1.000 ha un Volto! Siamo Orgogliosi di averti al nostro fianco!
DESCRIPTION:“Non costa nulla a te\, vale moltissimo per noi” \nGrazie! Con il tuo 5×1000 hai scelto di sostenere IPA ITALIA\, trasformando la tua dichiarazione in un atto di solidarietà concreta. #5×1000″ \n  \n 
URL:https://ipaitalia.it/event/5x1-000-ipa-italia/
CATEGORIES:Eventi Internazionali,Eventi Nazionali
ATTACH;FMTTYPE=image/jpeg:https://ipaitalia.it/wp-content/uploads/2025/12/f8fb85d6-4a30-4f70-b971-cceb959029ea.jpg
END:VEVENT
END:VCALENDAR